BEGIN:VCALENDAR
VERSION:2.0
PRODID:icalendar-ruby
CALSCALE:GREGORIAN
METHOD:PUBLISH
BEGIN:VEVENT
DTSTAMP:20260424T102403Z
UID:16-595674@gracebaptistchurchparagould.com
DTSTART:20260920T140000Z
DTEND:20260920T150000Z
CLASS:PUBLIC
CREATED:20260423T213259
DESCRIPTION:Men's and Women's Sunday School
LAST-MODIFIED:20260423T213259
LOCATION:Grace Baptist Church
SUMMARY:Men's and Women's Sunday School
URL;VALUE=URI:https://www.gracebaptistchurchparagould.com/events/mens-and-w
 omens-sunday-school/2026-09-20
END:VEVENT
END:VCALENDAR
