BEGIN:VCALENDAR
VERSION:2.0
PRODID:icalendar-ruby
CALSCALE:GREGORIAN
METHOD:PUBLISH
BEGIN:VEVENT
DTSTAMP:20260424T163449Z
UID:16-596546@gracebaptistchurchparagould.com
DTSTART:20261018T140000Z
DTEND:20261018T150000Z
CLASS:PUBLIC
CREATED:20260424T095432
DESCRIPTION:Men's and Women's Sunday School
LAST-MODIFIED:20260424T095432
LOCATION:Grace Baptist Church
SUMMARY:Men's and Women's Sunday School
URL;VALUE=URI:https://www.gracebaptistchurchparagould.com/events/mens-and-w
 omens-sunday-school/2026-10-18
END:VEVENT
END:VCALENDAR
